BEGIN:VCALENDAR
VERSION:2.0
PRODID:-//The Gathering Place - ECPv6.15.20//NONSGML v1.0//EN
CALSCALE:GREGORIAN
METHOD:PUBLISH
X-WR-CALNAME:The Gathering Place
X-ORIGINAL-URL:https://gatheringplacecs.org
X-WR-CALDESC:Events for The Gathering Place
REFRESH-INTERVAL;VALUE=DURATION:PT1H
X-Robots-Tag:noindex
X-PUBLISHED-TTL:PT1H
BEGIN:VTIMEZONE
TZID:America/New_York
BEGIN:DAYLIGHT
TZOFFSETFROM:-0500
TZOFFSETTO:-0400
TZNAME:EDT
DTSTART:20250309T070000
END:DAYLIGHT
BEGIN:STANDARD
TZOFFSETFROM:-0400
TZOFFSETTO:-0500
TZNAME:EST
DTSTART:20251102T060000
END:STANDARD
BEGIN:DAYLIGHT
TZOFFSETFROM:-0500
TZOFFSETTO:-0400
TZNAME:EDT
DTSTART:20260308T070000
END:DAYLIGHT
BEGIN:STANDARD
TZOFFSETFROM:-0400
TZOFFSETTO:-0500
TZNAME:EST
DTSTART:20261101T060000
END:STANDARD
BEGIN:DAYLIGHT
TZOFFSETFROM:-0500
TZOFFSETTO:-0400
TZNAME:EDT
DTSTART:20270314T070000
END:DAYLIGHT
BEGIN:STANDARD
TZOFFSETFROM:-0400
TZOFFSETTO:-0500
TZNAME:EST
DTSTART:20271107T060000
END:STANDARD
END:VTIMEZONE
BEGIN:VEVENT
DTSTART;TZID=America/New_York:20260423T180000
DTEND;TZID=America/New_York:20260423T200000
DTSTAMP:20260422T043920
CREATED:20260217T073933Z
LAST-MODIFIED:20260223T143016Z
UID:10000271-1776967200-1776974400@gatheringplacecs.org
SUMMARY:Dinner Tonight: Seafood with Paula Lamberton
DESCRIPTION:Discover how easy and approachable seafood can be in this fast-paced cooking class designed for busy evenings. Participants will prepare a seafood entrée and a simple side dish that come together in under 30 minutes\, along with an easy dessert that pairs beautifully with the meal. Learn tips for cooking seafood with confidence while creating a fresh\, balanced dinner you’ll want to make again and again.
URL:https://gatheringplacecs.org/event/dinner-tonight-seafood-with-paula-lamberton/
LOCATION:The Gathering Place\, 304 S. State Street\, Clarks Summit\, PA\, 18411\, United States
CATEGORIES:Cooking,Education
ATTACH;FMTTYPE=image/png:https://gatheringplacecs.org/wp-content/uploads/2026/02/The-Kitchen-at-The-Gathering-PLace-19.png
END:VEVENT
BEGIN:VEVENT
DTSTART;TZID=America/New_York:20260428T180000
DTEND;TZID=America/New_York:20260428T200000
DTSTAMP:20260422T043920
CREATED:20260217T071804Z
LAST-MODIFIED:20260223T041241Z
UID:10000265-1777399200-1777406400@gatheringplacecs.org
SUMMARY:Cake Decorating: Cake & Buttercream with Sisile Maruzzelli
DESCRIPTION:Unleash your creativity in this fun\, hands-on cake decorating class with Sisile Maruzzelli of Baileys Café. Each participant will bake and decorate their own cake using rich\, creamy buttercream\, learning professional techniques for frosting\, piping\, and design. At the end of class\, take home your beautifully decorated cake—and maybe a little inspiration for your next sweet creation.
URL:https://gatheringplacecs.org/event/cake-decorating-cake-buttercream-with-sisile-maruzzelli/
LOCATION:The Gathering Place\, 304 S. State Street\, Clarks Summit\, PA\, 18411\, United States
CATEGORIES:Cooking,Education
ATTACH;FMTTYPE=image/png:https://gatheringplacecs.org/wp-content/uploads/2026/02/The-Kitchen-at-The-Gathering-PLace-13.png
END:VEVENT
BEGIN:VEVENT
DTSTART;TZID=America/New_York:20260430T080000
DTEND;TZID=America/New_York:20260430T170000
DTSTAMP:20260422T043920
CREATED:20260217T074218Z
LAST-MODIFIED:20260223T143140Z
UID:10000272-1777536000-1777568400@gatheringplacecs.org
SUMMARY:Dinner Tonight: Vegetarian with Paula Lamberton
DESCRIPTION:Perfect for plant-forward eaters or anyone looking to add more meatless meals to their routine\, this class focuses on a quick vegetarian dinner that’s big on flavor and low on prep time. You’ll make a hearty vegetarian main\, a simple side\, and a no-fuss dessert\, all designed to be ready in under 30 minutes. Walk away with ideas that make weeknight vegetarian cooking feel effortless and satisfying.
URL:https://gatheringplacecs.org/event/dinner-tonight-vegetarian-with-paula-lamberton/
LOCATION:The Gathering Place\, 304 S. State Street\, Clarks Summit\, PA\, 18411\, United States
CATEGORIES:Cooking,Education
ATTACH;FMTTYPE=image/png:https://gatheringplacecs.org/wp-content/uploads/2026/02/The-Kitchen-at-The-Gathering-PLace-18.png
END:VEVENT
END:VCALENDAR